Package: RBM Version: 1.39.0 Command: /Library/Frameworks/R.framework/Resources/bin/R CMD build --keep-empty-dirs --no-resave-data RBM StartedAt: 2025-02-20 17:55:21 -0500 (Thu, 20 Feb 2025) EndedAt: 2025-02-20 17:55:58 -0500 (Thu, 20 Feb 2025) EllapsedTime: 36.6 seconds RetCode: 0 Status: OK PackageFile: RBM_1.39.0.tar.gz PackageFileSize: 373.2 KiB