Package: RBM Version: 1.39.0 Command: /Library/Frameworks/R.framework/Resources/bin/R CMD build --keep-empty-dirs --no-resave-data RBM StartedAt: 2025-02-21 17:19:54 -0500 (Fri, 21 Feb 2025) EndedAt: 2025-02-21 17:20:08 -0500 (Fri, 21 Feb 2025) EllapsedTime: 13.1 seconds RetCode: 0 Status: OK PackageFile: RBM_1.39.0.tar.gz PackageFileSize: 370.5 KiB