Package: RBGL Version: 1.83.0 Command: E:\biocbuild\bbs-3.21-bioc\R\bin\R.exe CMD INSTALL RBGL StartedAt: 2025-02-19 15:24:13 -0500 (Wed, 19 Feb 2025) EndedAt: 2025-02-19 15:28:42 -0500 (Wed, 19 Feb 2025) EllapsedTime: 269.6 seconds RetCode: 0 Status: OK