Package: RBGL Version: 1.83.0 Command: /Library/Frameworks/R.framework/Resources/bin/R CMD INSTALL RBGL StartedAt: 2025-02-20 15:02:11 -0500 (Thu, 20 Feb 2025) EndedAt: 2025-02-20 15:02:44 -0500 (Thu, 20 Feb 2025) EllapsedTime: 33.7 seconds RetCode: 0 Status: OK