Package: RAREsim Version: 1.11.0 Command: /home/biocbuild/bbs-3.21-bioc/R/bin/R CMD INSTALL RAREsim StartedAt: 2025-02-19 15:04:32 -0500 (Wed, 19 Feb 2025) EndedAt: 2025-02-19 15:04:46 -0500 (Wed, 19 Feb 2025) EllapsedTime: 14.4 seconds RetCode: 0 Status: OK