Package: RAIDS Version: 1.5.0 Command: E:\biocbuild\bbs-3.21-bioc\R\bin\R.exe CMD check --no-multiarch --install=check:RAIDS.install-out.txt --library=E:\biocbuild\bbs-3.21-bioc\R\library --no-vignettes --timings RAIDS_1.5.0.tar.gz StartedAt: 2025-02-21 04:45:22 -0500 (Fri, 21 Feb 2025) EndedAt: 2025-02-21 04:53:36 -0500 (Fri, 21 Feb 2025) EllapsedTime: 494.3 seconds RetCode: 0 Status: OK CheckDir: RAIDS.Rcheck Warnings: 0