Package: RAIDS Version: 1.5.0 Command: rm -rf RAIDS.buildbin-libdir && mkdir RAIDS.buildbin-libdir && E:\biocbuild\bbs-3.21-bioc\R\bin\R.exe CMD INSTALL --build --library=RAIDS.buildbin-libdir RAIDS_1.5.0.tar.gz StartedAt: 2025-02-21 08:50:48 -0500 (Fri, 21 Feb 2025) EndedAt: 2025-02-21 08:52:24 -0500 (Fri, 21 Feb 2025) EllapsedTime: 95.9 seconds RetCode: 0 Status: OK PackageFile: RAIDS_1.5.0.zip PackageFileSize: 2.56 MiB