Package: RAIDS Version: 1.5.0 Command: /Library/Frameworks/R.framework/Resources/bin/R CMD check --install=check:RAIDS.install-out.txt --library=/Library/Frameworks/R.framework/Resources/library --no-vignettes --timings RAIDS_1.5.0.tar.gz StartedAt: 2025-02-20 22:36:19 -0500 (Thu, 20 Feb 2025) EndedAt: 2025-02-20 22:43:46 -0500 (Thu, 20 Feb 2025) EllapsedTime: 446.8 seconds RetCode: 0 Status: OK CheckDir: RAIDS.Rcheck Warnings: 0