Package: RAIDS Version: 1.5.0 Command: rm -rf RAIDS.buildbin-libdir && mkdir RAIDS.buildbin-libdir && /Users/biocbuild/BBS/utils/build-universal.sh RAIDS_1.5.0.tar.gz /Library/Frameworks/R.framework/Resources/bin/R RAIDS.buildbin-libdir StartedAt: 2025-02-21 00:47:21 -0500 (Fri, 21 Feb 2025) EndedAt: 2025-02-21 00:48:36 -0500 (Fri, 21 Feb 2025) EllapsedTime: 75.2 seconds RetCode: 0 Status: OK PackageFile: RAIDS_1.5.0.tgz PackageFileSize: 2.723 MiB