Package: R4RNA Version: 1.35.0 Command: E:\biocbuild\bbs-3.21-bioc\R\bin\R.exe CMD check --no-multiarch --install=check:R4RNA.install-out.txt --library=E:\biocbuild\bbs-3.21-bioc\R\library --no-vignettes --timings R4RNA_1.35.0.tar.gz StartedAt: 2025-02-21 04:44:38 -0500 (Fri, 21 Feb 2025) EndedAt: 2025-02-21 04:46:20 -0500 (Fri, 21 Feb 2025) EllapsedTime: 102.1 seconds RetCode: 0 Status: OK CheckDir: R4RNA.Rcheck Warnings: 0