Package: R4RNA Version: 1.35.0 Command: chmod a+r R4RNA -R && E:\biocbuild\bbs-3.21-bioc\R\bin\R.exe CMD build --keep-empty-dirs --no-resave-data R4RNA StartedAt: 2025-02-21 21:40:38 -0500 (Fri, 21 Feb 2025) EndedAt: 2025-02-21 21:41:09 -0500 (Fri, 21 Feb 2025) EllapsedTime: 30.6 seconds RetCode: 0 Status: OK PackageFile: R4RNA_1.35.0.tar.gz PackageFileSize: 787.5 KiB