Package: R4RNA Version: 1.35.0 Command: /home/biocbuild/bbs-3.21-bioc/R/bin/R CMD check --install=check:R4RNA.install-out.txt --library=/home/biocbuild/bbs-3.21-bioc/R/site-library --timings R4RNA_1.35.0.tar.gz StartedAt: 2025-02-21 00:58:43 -0500 (Fri, 21 Feb 2025) EndedAt: 2025-02-21 00:59:58 -0500 (Fri, 21 Feb 2025) EllapsedTime: 75.1 seconds RetCode: 0 Status: OK CheckDir: R4RNA.Rcheck Warnings: 0