Package: R4RNA Version: 1.35.0 Command: /Library/Frameworks/R.framework/Resources/bin/R CMD build --keep-empty-dirs --no-resave-data R4RNA StartedAt: 2025-02-20 17:54:05 -0500 (Thu, 20 Feb 2025) EndedAt: 2025-02-20 17:54:27 -0500 (Thu, 20 Feb 2025) EllapsedTime: 21.8 seconds RetCode: 0 Status: OK PackageFile: R4RNA_1.35.0.tar.gz PackageFileSize: 903.1 KiB