Package: R4RNA Version: 1.35.0 Command: rm -rf R4RNA.buildbin-libdir && mkdir R4RNA.buildbin-libdir && /Users/biocbuild/BBS/utils/build-universal.sh R4RNA_1.35.0.tar.gz /Library/Frameworks/R.framework/Resources/bin/R R4RNA.buildbin-libdir StartedAt: 2025-02-21 00:47:14 -0500 (Fri, 21 Feb 2025) EndedAt: 2025-02-21 00:47:31 -0500 (Fri, 21 Feb 2025) EllapsedTime: 17.1 seconds RetCode: 0 Status: OK PackageFile: R4RNA_1.35.0.tgz PackageFileSize: 1.019 MiB