Package: R4RNA Version: 1.35.0 Command: /Library/Frameworks/R.framework/Resources/bin/R CMD check --install=check:R4RNA.install-out.txt --library=/Library/Frameworks/R.framework/Resources/library --no-vignettes --timings R4RNA_1.35.0.tar.gz StartedAt: 2025-02-21 21:31:13 -0500 (Fri, 21 Feb 2025) EndedAt: 2025-02-21 21:31:44 -0500 (Fri, 21 Feb 2025) EllapsedTime: 30.4 seconds RetCode: 0 Status: OK CheckDir: R4RNA.Rcheck Warnings: 0