Package: R453Plus1Toolbox Version: 1.57.0 Command: /home/biocbuild/bbs-3.21-bioc/R/bin/R CMD INSTALL R453Plus1Toolbox StartedAt: 2025-02-17 15:49:18 -0500 (Mon, 17 Feb 2025) EndedAt: 2025-02-17 15:50:28 -0500 (Mon, 17 Feb 2025) EllapsedTime: 69.7 seconds RetCode: 0 Status: OK