Package: R453Plus1Toolbox Version: 1.57.0 Command: /home/biocbuild/bbs-3.21-bioc/R/bin/R CMD build --keep-empty-dirs --no-resave-data R453Plus1Toolbox StartedAt: 2025-02-17 18:41:57 -0500 (Mon, 17 Feb 2025) EndedAt: 2025-02-17 18:43:52 -0500 (Mon, 17 Feb 2025) EllapsedTime: 115.1 seconds RetCode: 0 Status: OK PackageFile: R453Plus1Toolbox_1.57.0.tar.gz PackageFileSize: 838.8 KiB