Package: R453Plus1Toolbox Version: 1.57.0 Command: /Library/Frameworks/R.framework/Resources/bin/R CMD check --install=check:R453Plus1Toolbox.install-out.txt --library=/Library/Frameworks/R.framework/Resources/library --no-vignettes --timings R453Plus1Toolbox_1.57.0.tar.gz StartedAt: 2025-02-17 20:53:00 -0500 (Mon, 17 Feb 2025) EndedAt: 2025-02-17 20:55:22 -0500 (Mon, 17 Feb 2025) EllapsedTime: 142.9 seconds RetCode: 0 Status: OK CheckDir: R453Plus1Toolbox.Rcheck Warnings: 0