Package: R453Plus1Toolbox Version: 1.57.0 Command: rm -rf R453Plus1Toolbox.buildbin-libdir && mkdir R453Plus1Toolbox.buildbin-libdir && /Users/biocbuild/BBS/utils/build-universal.sh R453Plus1Toolbox_1.57.0.tar.gz /Library/Frameworks/R.framework/Resources/bin/R R453Plus1Toolbox.buildbin-libdir StartedAt: 2025-02-17 22:29:30 -0500 (Mon, 17 Feb 2025) EndedAt: 2025-02-17 22:30:00 -0500 (Mon, 17 Feb 2025) EllapsedTime: 29.7 seconds RetCode: 0 Status: OK PackageFile: R453Plus1Toolbox_1.57.0.tgz PackageFileSize: 2.243 MiB