Package: R3CPET Version: 1.39.0 Command: chmod a+r R3CPET -R && E:\biocbuild\bbs-3.21-bioc\R\bin\R.exe CMD build --keep-empty-dirs --no-resave-data R3CPET StartedAt: 2025-02-19 20:59:41 -0500 (Wed, 19 Feb 2025) EndedAt: 2025-02-19 21:02:45 -0500 (Wed, 19 Feb 2025) EllapsedTime: 184.4 seconds RetCode: 0 Status: OK PackageFile: R3CPET_1.39.0.tar.gz PackageFileSize: 5.084 MiB