Package: QuaternaryProd Version: 1.41.0 Command: E:\biocbuild\bbs-3.21-bioc\R\bin\R.exe CMD INSTALL QuaternaryProd StartedAt: 2025-02-19 15:23:58 -0500 (Wed, 19 Feb 2025) EndedAt: 2025-02-19 15:24:34 -0500 (Wed, 19 Feb 2025) EllapsedTime: 35.6 seconds RetCode: 0 Status: OK