Package: QuaternaryProd Version: 1.41.0 Command: chmod a+r QuaternaryProd -R && E:\biocbuild\bbs-3.21-bioc\R\bin\R.exe CMD build --keep-empty-dirs --no-resave-data QuaternaryProd StartedAt: 2025-02-19 20:58:53 -0500 (Wed, 19 Feb 2025) EndedAt: 2025-02-19 21:05:07 -0500 (Wed, 19 Feb 2025) EllapsedTime: 374.4 seconds RetCode: 0 Status: OK PackageFile: QuaternaryProd_1.41.0.tar.gz PackageFileSize: 10.75 MiB