Package: QuaternaryProd Version: 1.41.0 Command: /Library/Frameworks/R.framework/Resources/bin/R CMD build --keep-empty-dirs --no-resave-data QuaternaryProd StartedAt: 2025-02-20 17:53:37 -0500 (Thu, 20 Feb 2025) EndedAt: 2025-02-20 17:59:49 -0500 (Thu, 20 Feb 2025) EllapsedTime: 372.1 seconds RetCode: 0 Status: OK PackageFile: QuaternaryProd_1.41.0.tar.gz PackageFileSize: 10.75 MiB