Package: QuaternaryProd Version: 1.41.0 Command: rm -rf QuaternaryProd.buildbin-libdir && mkdir QuaternaryProd.buildbin-libdir && /Users/biocbuild/BBS/utils/build-universal.sh QuaternaryProd_1.41.0.tar.gz /Library/Frameworks/R.framework/Resources/bin/R QuaternaryProd.buildbin-libdir StartedAt: 2025-02-19 22:34:04 -0500 (Wed, 19 Feb 2025) EndedAt: 2025-02-19 22:34:11 -0500 (Wed, 19 Feb 2025) EllapsedTime: 7.2 seconds RetCode: 0 Status: OK PackageFile: QuaternaryProd_1.41.0.tgz PackageFileSize: 10.9 MiB