Package: QuasR Version: 1.47.3 Command: E:\biocbuild\bbs-3.21-bioc\R\bin\R.exe CMD INSTALL QuasR StartedAt: 2025-02-21 17:26:10 -0500 (Fri, 21 Feb 2025) EndedAt: 2025-02-21 17:28:03 -0500 (Fri, 21 Feb 2025) EllapsedTime: 113.2 seconds RetCode: 0 Status: OK