Package: QuasR Version: 1.47.3 Command: E:\biocbuild\bbs-3.21-bioc\R\bin\R.exe CMD check --no-multiarch --install=check:QuasR.install-out.txt --library=E:\biocbuild\bbs-3.21-bioc\R\library --no-vignettes --timings QuasR_1.47.3.tar.gz StartedAt: 2025-02-22 05:09:40 -0500 (Sat, 22 Feb 2025) EndedAt: 2025-02-22 05:23:26 -0500 (Sat, 22 Feb 2025) EllapsedTime: 826.5 seconds RetCode: 0 Status: WARNINGS CheckDir: QuasR.Rcheck Warnings: 1