Package: QuasR Version: 1.47.2 Command: /home/biocbuild/bbs-3.21-bioc/R/bin/R CMD INSTALL QuasR StartedAt: 2025-02-20 16:07:52 -0500 (Thu, 20 Feb 2025) EndedAt: 2025-02-20 16:08:57 -0500 (Thu, 20 Feb 2025) EllapsedTime: 65.0 seconds RetCode: 0 Status: OK