Package: QuasR Version: 1.47.2 Command: /Library/Frameworks/R.framework/Resources/bin/R CMD build --keep-empty-dirs --no-resave-data QuasR StartedAt: 2025-02-20 17:19:05 -0500 (Thu, 20 Feb 2025) EndedAt: 2025-02-20 17:20:58 -0500 (Thu, 20 Feb 2025) EllapsedTime: 112.3 seconds RetCode: 0 Status: OK PackageFile: QuasR_1.47.2.tar.gz PackageFileSize: 2.406 MiB