Package: QuartPAC Version: 1.39.0 Command: /Library/Frameworks/R.framework/Resources/bin/R CMD INSTALL QuartPAC StartedAt: 2025-02-17 15:35:14 -0500 (Mon, 17 Feb 2025) EndedAt: 2025-02-17 15:35:35 -0500 (Mon, 17 Feb 2025) EllapsedTime: 20.6 seconds RetCode: 0 Status: OK