Package: QuartPAC Version: 1.39.0 Command: /Library/Frameworks/R.framework/Resources/bin/R CMD build --keep-empty-dirs --no-resave-data QuartPAC StartedAt: 2025-02-19 17:20:11 -0500 (Wed, 19 Feb 2025) EndedAt: 2025-02-19 17:20:38 -0500 (Wed, 19 Feb 2025) EllapsedTime: 27.3 seconds RetCode: 0 Status: OK PackageFile: QuartPAC_1.39.0.tar.gz PackageFileSize: 907.8 KiB