Package: QuartPAC Version: 1.39.0 Command: rm -rf QuartPAC.buildbin-libdir && mkdir QuartPAC.buildbin-libdir && /Users/biocbuild/BBS/utils/build-universal.sh QuartPAC_1.39.0.tar.gz /Library/Frameworks/R.framework/Resources/bin/R QuartPAC.buildbin-libdir StartedAt: 2025-02-18 22:33:36 -0500 (Tue, 18 Feb 2025) EndedAt: 2025-02-18 22:33:43 -0500 (Tue, 18 Feb 2025) EllapsedTime: 7.2 seconds RetCode: 0 Status: OK PackageFile: QuartPAC_1.39.0.tgz PackageFileSize: 646.9 KiB