Package: Qtlizer Version: 1.21.0 Command: chmod a+r Qtlizer -R && E:\biocbuild\bbs-3.21-bioc\R\bin\R.exe CMD build --keep-empty-dirs --no-resave-data Qtlizer StartedAt: 2025-02-19 20:58:18 -0500 (Wed, 19 Feb 2025) EndedAt: 2025-02-19 20:58:31 -0500 (Wed, 19 Feb 2025) EllapsedTime: 13.3 seconds RetCode: 0 Status: OK PackageFile: Qtlizer_1.21.0.tar.gz PackageFileSize: 223.2 KiB