Package: Qtlizer Version: 1.21.0 Command: rm -rf Qtlizer.buildbin-libdir && mkdir Qtlizer.buildbin-libdir && E:\biocbuild\bbs-3.21-bioc\R\bin\R.exe CMD INSTALL --build --library=Qtlizer.buildbin-libdir Qtlizer_1.21.0.tar.gz StartedAt: 2025-02-20 08:30:12 -0500 (Thu, 20 Feb 2025) EndedAt: 2025-02-20 08:30:16 -0500 (Thu, 20 Feb 2025) EllapsedTime: 4.0 seconds RetCode: 0 Status: OK PackageFile: Qtlizer_1.21.0.zip PackageFileSize: 239.7 KiB