Package: Qtlizer Version: 1.21.0 Command: /Library/Frameworks/R.framework/Resources/bin/R CMD INSTALL Qtlizer StartedAt: 2025-02-20 15:44:13 -0500 (Thu, 20 Feb 2025) EndedAt: 2025-02-20 15:44:16 -0500 (Thu, 20 Feb 2025) EllapsedTime: 2.5 seconds RetCode: 0 Status: OK