Package: Qtlizer Version: 1.21.0 Command: /Library/Frameworks/R.framework/Resources/bin/R CMD check --install=check:Qtlizer.install-out.txt --library=/Library/Frameworks/R.framework/Resources/library --no-vignettes --timings Qtlizer_1.21.0.tar.gz StartedAt: 2025-02-19 22:34:40 -0500 (Wed, 19 Feb 2025) EndedAt: 2025-02-19 22:35:14 -0500 (Wed, 19 Feb 2025) EllapsedTime: 34.4 seconds RetCode: 1 Status: ERROR CheckDir: Qtlizer.Rcheck Warnings: NA