Package: Qtlizer Version: 1.21.0 Command: /Library/Frameworks/R.framework/Resources/bin/R CMD build --keep-empty-dirs --no-resave-data Qtlizer StartedAt: 2025-02-20 17:53:21 -0500 (Thu, 20 Feb 2025) EndedAt: 2025-02-20 17:53:33 -0500 (Thu, 20 Feb 2025) EllapsedTime: 12.5 seconds RetCode: 1 Status: ERROR PackageFile: None PackageFileSize: NA