Package: Qtlizer Version: 1.21.0 Command: rm -rf Qtlizer.buildbin-libdir && mkdir Qtlizer.buildbin-libdir && /Users/biocbuild/BBS/utils/build-universal.sh Qtlizer_1.21.0.tar.gz /Library/Frameworks/R.framework/Resources/bin/R Qtlizer.buildbin-libdir StartedAt: 2025-02-19 22:34:01 -0500 (Wed, 19 Feb 2025) EndedAt: 2025-02-19 22:34:03 -0500 (Wed, 19 Feb 2025) EllapsedTime: 2.1 seconds RetCode: 0 Status: OK PackageFile: Qtlizer_1.21.0.tgz PackageFileSize: 236 KiB