Package: QUBIC Version: 1.35.0 Command: /home/biocbuild/bbs-3.21-bioc/R/bin/R CMD INSTALL QUBIC StartedAt: 2025-02-20 15:19:38 -0500 (Thu, 20 Feb 2025) EndedAt: 2025-02-20 15:20:06 -0500 (Thu, 20 Feb 2025) EllapsedTime: 28.4 seconds RetCode: 0 Status: OK