Package: QUBIC Version: 1.35.0 Command: /home/biocbuild/bbs-3.21-bioc/R/bin/R CMD build --keep-empty-dirs --no-resave-data QUBIC StartedAt: 2025-02-20 18:49:53 -0500 (Thu, 20 Feb 2025) EndedAt: 2025-02-20 18:51:40 -0500 (Thu, 20 Feb 2025) EllapsedTime: 107.1 seconds RetCode: 0 Status: OK PackageFile: QUBIC_1.35.0.tar.gz PackageFileSize: 494.4 KiB