Package: QSutils Version: 1.25.0 Command: /home/biocbuild/bbs-3.21-bioc/R/bin/R CMD INSTALL QSutils StartedAt: 2025-02-19 15:48:55 -0500 (Wed, 19 Feb 2025) EndedAt: 2025-02-19 15:49:07 -0500 (Wed, 19 Feb 2025) EllapsedTime: 11.5 seconds RetCode: 0 Status: OK