Package: QSutils Version: 1.25.0 Command: /Library/Frameworks/R.framework/Resources/bin/R CMD check --install=check:QSutils.install-out.txt --library=/Library/Frameworks/R.framework/Resources/library --no-vignettes --timings QSutils_1.25.0.tar.gz StartedAt: 2025-02-20 22:33:54 -0500 (Thu, 20 Feb 2025) EndedAt: 2025-02-20 22:35:24 -0500 (Thu, 20 Feb 2025) EllapsedTime: 89.5 seconds RetCode: 0 Status: OK CheckDir: QSutils.Rcheck Warnings: 0