Package: QFeatures Version: 1.17.2 Command: chmod a+r QFeatures -R && E:\biocbuild\bbs-3.21-bioc\R\bin\R.exe CMD build --keep-empty-dirs --no-resave-data QFeatures StartedAt: 2025-02-18 20:52:20 -0500 (Tue, 18 Feb 2025) EndedAt: 2025-02-18 20:56:16 -0500 (Tue, 18 Feb 2025) EllapsedTime: 235.8 seconds RetCode: 0 Status: OK PackageFile: QFeatures_1.17.2.tar.gz PackageFileSize: 4.219 MiB