Package: QFeatures Version: 1.17.2 Command: /home/biocbuild/bbs-3.21-bioc/R/bin/R CMD INSTALL QFeatures StartedAt: 2025-02-20 15:46:24 -0500 (Thu, 20 Feb 2025) EndedAt: 2025-02-20 15:46:54 -0500 (Thu, 20 Feb 2025) EllapsedTime: 29.7 seconds RetCode: 0 Status: OK