Package: QFeatures Version: 1.17.2 Command: rm -rf QFeatures.buildbin-libdir && mkdir QFeatures.buildbin-libdir && /Users/biocbuild/BBS/utils/build-universal.sh QFeatures_1.17.2.tar.gz /Library/Frameworks/R.framework/Resources/bin/R QFeatures.buildbin-libdir StartedAt: 2025-02-19 00:40:50 -0500 (Wed, 19 Feb 2025) EndedAt: 2025-02-19 00:41:35 -0500 (Wed, 19 Feb 2025) EllapsedTime: 45.0 seconds RetCode: 0 Status: OK PackageFile: QFeatures_1.17.2.tgz PackageFileSize: 4.902 MiB