Package: QDNAseq Version: 1.43.0 Command: E:\biocbuild\bbs-3.21-bioc\R\bin\R.exe CMD check --no-multiarch --install=check:QDNAseq.install-out.txt --library=E:\biocbuild\bbs-3.21-bioc\R\library --no-vignettes --timings QDNAseq_1.43.0.tar.gz StartedAt: 2025-02-21 04:38:48 -0500 (Fri, 21 Feb 2025) EndedAt: 2025-02-21 04:46:43 -0500 (Fri, 21 Feb 2025) EllapsedTime: 475.1 seconds RetCode: 0 Status: OK CheckDir: QDNAseq.Rcheck Warnings: 0