Package: QDNAseq Version: 1.43.0 Command: chmod a+r QDNAseq -R && E:\biocbuild\bbs-3.21-bioc\R\bin\R.exe CMD build --keep-empty-dirs --no-resave-data QDNAseq StartedAt: 2025-02-20 20:59:55 -0500 (Thu, 20 Feb 2025) EndedAt: 2025-02-20 21:06:16 -0500 (Thu, 20 Feb 2025) EllapsedTime: 381.8 seconds RetCode: 0 Status: OK PackageFile: QDNAseq_1.43.0.tar.gz PackageFileSize: 849.4 KiB