Package: QDNAseq Version: 1.43.0 Command: /home/biocbuild/bbs-3.21-bioc/R/bin/R CMD INSTALL QDNAseq StartedAt: 2025-02-20 15:25:14 -0500 (Thu, 20 Feb 2025) EndedAt: 2025-02-20 15:25:31 -0500 (Thu, 20 Feb 2025) EllapsedTime: 17.3 seconds RetCode: 0 Status: OK