Package: QDNAseq Version: 1.43.0 Command: /home/biocbuild/bbs-3.21-bioc/R/bin/R CMD build --keep-empty-dirs --no-resave-data QDNAseq StartedAt: 2025-02-20 18:48:25 -0500 (Thu, 20 Feb 2025) EndedAt: 2025-02-20 18:49:11 -0500 (Thu, 20 Feb 2025) EllapsedTime: 46.1 seconds RetCode: 0 Status: OK PackageFile: QDNAseq_1.43.0.tar.gz PackageFileSize: 1.068 MiB