Package: QDNAseq Version: 1.43.0 Command: /Library/Frameworks/R.framework/Resources/bin/R CMD INSTALL QDNAseq StartedAt: 2025-02-20 15:12:52 -0500 (Thu, 20 Feb 2025) EndedAt: 2025-02-20 15:12:59 -0500 (Thu, 20 Feb 2025) EllapsedTime: 7.6 seconds RetCode: 0 Status: OK