Package: QDNAseq Version: 1.43.0 Command: /Library/Frameworks/R.framework/Resources/bin/R CMD build --keep-empty-dirs --no-resave-data QDNAseq StartedAt: 2025-02-20 17:18:29 -0500 (Thu, 20 Feb 2025) EndedAt: 2025-02-20 17:18:51 -0500 (Thu, 20 Feb 2025) EllapsedTime: 22.3 seconds RetCode: 0 Status: OK PackageFile: QDNAseq_1.43.0.tar.gz PackageFileSize: 993.4 KiB